BEGIN:VCALENDAR
VERSION:2.0
PRODID:-//MacLaren Art Centre - ECPv6.15.20//NONSGML v1.0//EN
CALSCALE:GREGORIAN
METHOD:PUBLISH
X-WR-CALNAME:MacLaren Art Centre
X-ORIGINAL-URL:https://maclarenart.com
X-WR-CALDESC:Events for MacLaren Art Centre
REFRESH-INTERVAL;VALUE=DURATION:PT1H
X-Robots-Tag:noindex
X-PUBLISHED-TTL:PT1H
BEGIN:VTIMEZONE
TZID:America/Toronto
BEGIN:DAYLIGHT
TZOFFSETFROM:-0500
TZOFFSETTO:-0400
TZNAME:EDT
DTSTART:20250309T070000
END:DAYLIGHT
BEGIN:STANDARD
TZOFFSETFROM:-0400
TZOFFSETTO:-0500
TZNAME:EST
DTSTART:20251102T060000
END:STANDARD
BEGIN:DAYLIGHT
TZOFFSETFROM:-0500
TZOFFSETTO:-0400
TZNAME:EDT
DTSTART:20260308T070000
END:DAYLIGHT
BEGIN:STANDARD
TZOFFSETFROM:-0400
TZOFFSETTO:-0500
TZNAME:EST
DTSTART:20261101T060000
END:STANDARD
BEGIN:DAYLIGHT
TZOFFSETFROM:-0500
TZOFFSETTO:-0400
TZNAME:EDT
DTSTART:20270314T070000
END:DAYLIGHT
BEGIN:STANDARD
TZOFFSETFROM:-0400
TZOFFSETTO:-0500
TZNAME:EST
DTSTART:20271107T060000
END:STANDARD
END:VTIMEZONE
BEGIN:VEVENT
DTSTART;TZID=America/Toronto:20260824T120000
DTEND;TZID=America/Toronto:20260824T160000
DTSTAMP:20260422T041054
CREATED:20260327T174554Z
LAST-MODIFIED:20260327T190250Z
UID:10004676-1787572800-1787587200@maclarenart.com
SUMMARY:Mosaic Tables (Adults 18+)
DESCRIPTION:
URL:https://maclarenart.com/event/mosaic-tables-adults-18/2026-08-24/
CATEGORIES:Adults
ATTACH;FMTTYPE=image/jpeg:https://maclarenart.com/wp-content/uploads/2026/03/MOSAIC-TABLES_Adult_1_Summer-2026.jpg
END:VEVENT
BEGIN:VEVENT
DTSTART;TZID=America/Toronto:20260825T120000
DTEND;TZID=America/Toronto:20260825T160000
DTSTAMP:20260422T041054
CREATED:20260327T174554Z
LAST-MODIFIED:20260327T190250Z
UID:10004677-1787659200-1787673600@maclarenart.com
SUMMARY:Mosaic Tables (Adults 18+)
DESCRIPTION:
URL:https://maclarenart.com/event/mosaic-tables-adults-18/2026-08-25/
CATEGORIES:Adults
ATTACH;FMTTYPE=image/jpeg:https://maclarenart.com/wp-content/uploads/2026/03/MOSAIC-TABLES_Adult_1_Summer-2026.jpg
END:VEVENT
BEGIN:VEVENT
DTSTART;TZID=America/Toronto:20260826T120000
DTEND;TZID=America/Toronto:20260826T160000
DTSTAMP:20260422T041054
CREATED:20260327T174554Z
LAST-MODIFIED:20260327T190250Z
UID:10004678-1787745600-1787760000@maclarenart.com
SUMMARY:Mosaic Tables (Adults 18+)
DESCRIPTION:
URL:https://maclarenart.com/event/mosaic-tables-adults-18/2026-08-26/
CATEGORIES:Adults
ATTACH;FMTTYPE=image/jpeg:https://maclarenart.com/wp-content/uploads/2026/03/MOSAIC-TABLES_Adult_1_Summer-2026.jpg
END:VEVENT
END:VCALENDAR